BEGIN:VCALENDAR
VERSION:2.0
PRODID:-//Tukios.com/
BEGIN:VEVENT
UID:bc3f27c4-c764-4019-b558-331c2bd987cc@www.wrightmortuary.com
DTSTAMP:20260424T190111Z
DTSTART:20260502T160000Z
DTEND:20260502T170000Z
SUMMARY:Celebration of Life
DESCRIPTION:
URL:https://www.wrightmortuary.com/obituaries/james-gear
LOCATION: 56 Willis St  Penns Grove NJ 08069
GEO:39.7242163;-75.467914
END:VEVENT
END:VCALENDAR