BEGIN:VCALENDAR
VERSION:2.0
PRODID:-//Tukios.com/
BEGIN:VEVENT
UID:9eca117d-b8e3-4cbb-b677-4815e0c5cbea@www.wrightmortuary.com
DTSTAMP:20260424T190025Z
DTSTART:20260502T150000Z
DTEND:20260502T160000Z
SUMMARY:Viewing
DESCRIPTION:
URL:https://www.wrightmortuary.com/obituaries/james-gear
LOCATION: 56 Willis St  Penns Grove NJ 08069
GEO:39.7242163;-75.467914
END:VEVENT
END:VCALENDAR