BEGIN:VCALENDAR
VERSION:2.0
PRODID:-//Tukios.com/
BEGIN:VEVENT
UID:f7beae7c-f50b-4713-8517-14ef2f4bbec0@www.wrightmortuary.com
DTSTAMP:20260423T225411Z
DTSTART:20260504T150000Z
DTEND:20260504T160000Z
SUMMARY:Celebration of Life
DESCRIPTION:
URL:https://www.wrightmortuary.com/obituaries/gail-bartley
LOCATION: 830-850 N. Church Street  Wilmington DE 19801
GEO:39.7407051;-75.5398085
END:VEVENT
END:VCALENDAR