BEGIN:VCALENDAR
VERSION:2.0
PRODID:-//Tukios.com/
BEGIN:VEVENT
UID:eb993100-0d72-4007-a4a6-e1dc30833c80@www.wrightmortuary.com
DTSTAMP:20260423T225759Z
DTSTART:20260504T140000Z
DTEND:20260504T150000Z
SUMMARY:Viewing
DESCRIPTION:
URL:https://www.wrightmortuary.com/obituaries/gail-bartley
LOCATION:Christian Growth Ministries 830-850 N. Church Street  Wilmington 
	DE 19801
GEO:39.7407051;-75.5398085
END:VEVENT
END:VCALENDAR