BEGIN:VCALENDAR
VERSION:2.0
PRODID:-//Tukios.com/
BEGIN:VEVENT
UID:47983b9b-1485-4310-8dfe-f49ea110842d@www.wrightmortuary.com
DTSTAMP:20260421T200916Z
DTSTART:20260507T150000Z
DTEND:20260507T160000Z
SUMMARY:Celebration of Life
DESCRIPTION:
URL:https://www.wrightmortuary.com/obituaries/eugene-butler-jr
LOCATION: 208 East 35th Street  Wilmington DE 19802
GEO:39.7570085;-75.5256709
END:VEVENT
END:VCALENDAR