BEGIN:VCALENDAR
VERSION:2.0
PRODID:-//Tukios.com/
BEGIN:VEVENT
UID:a4ead930-8d91-4898-9552-f75fdf85df48@www.wrightmortuary.com
DTSTAMP:20260421T201450Z
DTSTART:20260507T140000Z
DTEND:20260507T150000Z
SUMMARY:Viewing
DESCRIPTION:
URL:https://www.wrightmortuary.com/obituaries/eugene-butler-jr
LOCATION: 208 East 35th Street  Wilmington DE 19802
GEO:39.7570085;-75.5256709
END:VEVENT
END:VCALENDAR