BEGIN:VCALENDAR
VERSION:2.0
PRODID:-//Tukios.com/
BEGIN:VEVENT
UID:c2c5894f-816b-46c7-8ec9-a51994c03030@www.wrightmortuary.com
DTSTAMP:20260423T000241Z
DTSTART:20260501T170000Z
DTEND:20260501T180000Z
SUMMARY:Military Honors and Committal
DESCRIPTION:
URL:https://www.wrightmortuary.com/obituaries/bishop-charles-scott
LOCATION: 2465 Chesapeake City Road  Bear DE 19701
GEO:39.54995;-75.743991
END:VEVENT
END:VCALENDAR