BEGIN:VCALENDAR
VERSION:2.0
PRODID:-//Tukios.com/
BEGIN:VEVENT
UID:d12d5350-5a0c-44b5-8911-f607c29186c2@www.wrightmortuary.com
DTSTAMP:20260423T000405Z
DTSTART:20260501T133000Z
DTEND:20260501T143000Z
SUMMARY:Celebration of Life- I'm On Victory's Side
DESCRIPTION:
URL:https://www.wrightmortuary.com/obituaries/bishop-charles-scott
LOCATION: 208 East 35th Street  Wilmington DE 19802
GEO:39.7570085;-75.5256709
END:VEVENT
END:VCALENDAR