BEGIN:VCALENDAR
VERSION:2.0
PRODID:-//Tukios.com/
BEGIN:VEVENT
UID:afbc159d-5bd1-46d9-a929-11ce0c47b949@www.wrightmortuary.com
DTSTAMP:20260423T000554Z
DTSTART:20260430T220000Z
DTEND:20260501T000000Z
SUMMARY:Celebration of Life- My Wonderful Working Jesus
DESCRIPTION:
URL:https://www.wrightmortuary.com/obituaries/bishop-charles-scott
LOCATION: 208 East 35th Street  Wilmington DE 19802
GEO:39.7570085;-75.5256709
END:VEVENT
END:VCALENDAR