BEGIN:VCALENDAR
VERSION:2.0
PRODID:-//Tukios.com/
BEGIN:VEVENT
UID:3806452e-648a-4507-8cc0-ece5e361c6b4@www.wrightmortuary.com
DTSTAMP:20260424T000433Z
DTSTART:20260508
SUMMARY:Burial
DESCRIPTION:
URL:https://www.wrightmortuary.com/obituaries/aurelia-mata
LOCATION: 3300 Lancaster Avenue  Wilmington DE 19805
GEO:39.7519475;-75.5871338
END:VEVENT
END:VCALENDAR