BEGIN:VCALENDAR
VERSION:2.0
PRODID:-//Tukios.com/
BEGIN:VEVENT
UID:e4179098-1f85-4413-a31a-60053117aaae@www.wrightmortuary.com
DTSTAMP:20260424T000107Z
DTSTART:20260508T160000Z
DTEND:20260508T170000Z
SUMMARY:Celebration of Life
DESCRIPTION:
URL:https://www.wrightmortuary.com/obituaries/aurelia-mata
LOCATION: 208 East 35th Street  Wilmington DE 19802
GEO:39.7570085;-75.5256709
END:VEVENT
END:VCALENDAR