BEGIN:VCALENDAR
VERSION:2.0
PRODID:-//Tukios.com/
BEGIN:VEVENT
UID:503d61e3-ebea-40d9-bb10-d8a4410c0aee@www.wrightmortuary.com
DTSTAMP:20260424T000311Z
DTSTART:20260507T220000Z
DTEND:20260508T000000Z
SUMMARY:Viewing
DESCRIPTION:
URL:https://www.wrightmortuary.com/obituaries/aurelia-mata
LOCATION: 208 East 35th Street  Wilmington DE 19802
GEO:39.7570085;-75.5256709
END:VEVENT
END:VCALENDAR